BEGIN:VCALENDAR
VERSION:2.0
PRODID:-//SCHAAKCLUB LEUVEN CENTRAAL VZW - ECPv6.8.3//NONSGML v1.0//EN
CALSCALE:GREGORIAN
METHOD:PUBLISH
X-WR-CALNAME:SCHAAKCLUB LEUVEN CENTRAAL VZW
X-ORIGINAL-URL:https://leuvencentraal.be
X-WR-CALDESC:Events voor SCHAAKCLUB LEUVEN CENTRAAL VZW
REFRESH-INTERVAL;VALUE=DURATION:PT1H
X-Robots-Tag:noindex
X-PUBLISHED-TTL:PT1H
BEGIN:VTIMEZONE
TZID:UTC
BEGIN:STANDARD
TZOFFSETFROM:+0000
TZOFFSETTO:+0000
TZNAME:UTC
DTSTART:20240101T000000
END:STANDARD
END:VTIMEZONE
BEGIN:VEVENT
DTSTART;TZID=UTC:20241004T195900
DTEND;TZID=UTC:20241004T235900
DTSTAMP:20260424T212145
CREATED:20240904T203654Z
LAST-MODIFIED:20240904T203654Z
UID:18728-1728071940-1728086340@leuvencentraal.be
SUMMARY:Open R4
DESCRIPTION:
URL:https://leuvencentraal.be/event/open-r4-7/
CATEGORIES:Open Tornooi
END:VEVENT
BEGIN:VEVENT
DTSTART;TZID=UTC:20241006T140000
DTEND;TZID=UTC:20241006T200000
DTSTAMP:20260424T212145
CREATED:20240904T205151Z
LAST-MODIFIED:20240904T205151Z
UID:18761-1728223200-1728244800@leuvencentraal.be
SUMMARY:NIC R2
DESCRIPTION:
URL:https://leuvencentraal.be/event/nic-r2/
CATEGORIES:Interclub
END:VEVENT
BEGIN:VEVENT
DTSTART;TZID=UTC:20241011T195900
DTEND;TZID=UTC:20241011T235900
DTSTAMP:20260424T212145
CREATED:20240904T203724Z
LAST-MODIFIED:20240904T203724Z
UID:18730-1728676740-1728691140@leuvencentraal.be
SUMMARY:Open R5
DESCRIPTION:
URL:https://leuvencentraal.be/event/open-r5-7/
CATEGORIES:Open Tornooi
END:VEVENT
BEGIN:VEVENT
DTSTART;TZID=UTC:20241018T195900
DTEND;TZID=UTC:20241018T235900
DTSTAMP:20260424T212145
CREATED:20240904T203754Z
LAST-MODIFIED:20240904T203754Z
UID:18732-1729281540-1729295940@leuvencentraal.be
SUMMARY:Open R6
DESCRIPTION:
URL:https://leuvencentraal.be/event/open-r6-7/
CATEGORIES:Open Tornooi
END:VEVENT
BEGIN:VEVENT
DTSTART;TZID=UTC:20241025T195900
DTEND;TZID=UTC:20241025T235900
DTSTAMP:20260424T212145
CREATED:20240904T203820Z
LAST-MODIFIED:20240904T203820Z
UID:18734-1729886340-1729900740@leuvencentraal.be
SUMMARY:Open R7
DESCRIPTION:
URL:https://leuvencentraal.be/event/open-r7-8/
CATEGORIES:Open Tornooi
END:VEVENT
END:VCALENDAR