BEGIN:VCALENDAR
VERSION:2.0
PRODID:-//SCHAAKCLUB LEUVEN CENTRAAL VZW - ECPv6.8.3//NONSGML v1.0//EN
CALSCALE:GREGORIAN
METHOD:PUBLISH
X-WR-CALNAME:SCHAAKCLUB LEUVEN CENTRAAL VZW
X-ORIGINAL-URL:https://leuvencentraal.be
X-WR-CALDESC:Events voor SCHAAKCLUB LEUVEN CENTRAAL VZW
REFRESH-INTERVAL;VALUE=DURATION:PT1H
X-Robots-Tag:noindex
X-PUBLISHED-TTL:PT1H
BEGIN:VTIMEZONE
TZID:UTC
BEGIN:STANDARD
TZOFFSETFROM:+0000
TZOFFSETTO:+0000
TZNAME:UTC
DTSTART:20240101T000000
END:STANDARD
END:VTIMEZONE
BEGIN:VEVENT
DTSTART;TZID=UTC:20240906T195900
DTEND;TZID=UTC:20240906T235900
DTSTAMP:20260425T014001
CREATED:20240904T203101Z
LAST-MODIFIED:20240904T203101Z
UID:18718-1725652740-1725667140@leuvencentraal.be
SUMMARY:Open R1 - Start 2024/2025
DESCRIPTION:
URL:https://leuvencentraal.be/event/open-r1-start-2024-2025/
CATEGORIES:Open Tornooi
END:VEVENT
BEGIN:VEVENT
DTSTART;TZID=UTC:20240907T130000
DTEND;TZID=UTC:20240907T180000
DTSTAMP:20260425T014001
CREATED:20240904T204538Z
LAST-MODIFIED:20240904T204951Z
UID:18755-1725714000-1725732000@leuvencentraal.be
SUMMARY:BK Blitz
DESCRIPTION:Provinciaal domein Huizingen
URL:https://leuvencentraal.be/event/bk-blitz/
CATEGORIES:Extern tornooi
END:VEVENT
BEGIN:VEVENT
DTSTART;TZID=UTC:20240913T195900
DTEND;TZID=UTC:20240913T235900
DTSTAMP:20260425T014001
CREATED:20240904T202859Z
LAST-MODIFIED:20240904T202952Z
UID:18715-1726257540-1726271940@leuvencentraal.be
SUMMARY:Geen schaak - No chess
DESCRIPTION:Klaarzetten zaal Jeugdcriterium – SALCO
URL:https://leuvencentraal.be/event/geen-schaak-no-chess-3/
CATEGORIES:Open Tornooi
END:VEVENT
BEGIN:VEVENT
DTSTART;TZID=UTC:20240914T195900
DTEND;TZID=UTC:20240914T235900
DTSTAMP:20260425T014001
CREATED:20240904T204448Z
LAST-MODIFIED:20240904T204448Z
UID:18753-1726343940-1726358340@leuvencentraal.be
SUMMARY:Jeugdcriterium - Leuven
DESCRIPTION:SALCO
URL:https://leuvencentraal.be/event/jeugdcriterium-leuven-3/
CATEGORIES:Extern tornooi
END:VEVENT
BEGIN:VEVENT
DTSTART;TZID=UTC:20240920T195900
DTEND;TZID=UTC:20240920T235900
DTSTAMP:20260425T014001
CREATED:20240904T203146Z
LAST-MODIFIED:20240904T203146Z
UID:18720-1726862340-1726876740@leuvencentraal.be
SUMMARY:Open R2
DESCRIPTION:
URL:https://leuvencentraal.be/event/open-r2-7/
CATEGORIES:Open Tornooi
END:VEVENT
BEGIN:VEVENT
DTSTART;TZID=UTC:20240927T195900
DTEND;TZID=UTC:20240927T235900
DTSTAMP:20260425T014001
CREATED:20240904T203515Z
LAST-MODIFIED:20240904T203515Z
UID:18723-1727467140-1727481540@leuvencentraal.be
SUMMARY:Open R3
DESCRIPTION:
URL:https://leuvencentraal.be/event/open-r3-7/
CATEGORIES:Open Tornooi
END:VEVENT
BEGIN:VEVENT
DTSTART;TZID=UTC:20240929T140000
DTEND;TZID=UTC:20240929T200000
DTSTAMP:20260425T014001
CREATED:20240904T205109Z
LAST-MODIFIED:20240904T205109Z
UID:18759-1727618400-1727640000@leuvencentraal.be
SUMMARY:NIC R1
DESCRIPTION:
URL:https://leuvencentraal.be/event/nic-r1/
CATEGORIES:Interclub
END:VEVENT
END:VCALENDAR