BEGIN:VCALENDAR
VERSION:2.0
PRODID:-//SCHAAKCLUB LEUVEN CENTRAAL VZW - ECPv6.8.3//NONSGML v1.0//EN
CALSCALE:GREGORIAN
METHOD:PUBLISH
X-ORIGINAL-URL:https://leuvencentraal.be
X-WR-CALDESC:Events voor SCHAAKCLUB LEUVEN CENTRAAL VZW
REFRESH-INTERVAL;VALUE=DURATION:PT1H
X-Robots-Tag:noindex
X-PUBLISHED-TTL:PT1H
BEGIN:VTIMEZONE
TZID:UTC
BEGIN:STANDARD
TZOFFSETFROM:+0000
TZOFFSETTO:+0000
TZNAME:UTC
DTSTART:20240101T000000
END:STANDARD
END:VTIMEZONE
BEGIN:VEVENT
DTSTART;TZID=UTC:20240705T195900
DTEND;TZID=UTC:20240705T235900
DTSTAMP:20260425T033239
CREATED:20240615T091057Z
LAST-MODIFIED:20240615T091057Z
UID:18248-1720209540-1720223940@leuvencentraal.be
SUMMARY:Geen schaak - No chess - Copy
DESCRIPTION:
URL:https://leuvencentraal.be/event/geen-schaak-no-chess-copy/
CATEGORIES:Open Tornooi
END:VEVENT
BEGIN:VEVENT
DTSTART;VALUE=DATE:20240706
DTEND;VALUE=DATE:20240707
DTSTAMP:20260425T033239
CREATED:20240429T113849Z
LAST-MODIFIED:20240615T091017Z
UID:17834-1720224000-1720310399@leuvencentraal.be
SUMMARY:BBQ
DESCRIPTION:
URL:https://leuvencentraal.be/event/bbq-2/
CATEGORIES:Extern tornooi
END:VEVENT
BEGIN:VEVENT
DTSTART;TZID=UTC:20240712T195900
DTEND;TZID=UTC:20240712T235900
DTSTAMP:20260425T033239
CREATED:20240429T113255Z
LAST-MODIFIED:20240615T091128Z
UID:17817-1720814340-1720828740@leuvencentraal.be
SUMMARY:Zomertornooi R1/2/3
DESCRIPTION:
URL:https://leuvencentraal.be/event/zomertornooi-r1-2-3-5/
CATEGORIES:Zomertornooi
END:VEVENT
BEGIN:VEVENT
DTSTART;TZID=UTC:20240719T195900
DTEND;TZID=UTC:20240719T235900
DTSTAMP:20260425T033239
CREATED:20240429T113335Z
LAST-MODIFIED:20240615T091143Z
UID:17819-1721419140-1721433540@leuvencentraal.be
SUMMARY:Zomertornooi R4/5/6
DESCRIPTION:
URL:https://leuvencentraal.be/event/zomertornooi-r4-5-6-3/
CATEGORIES:Zomertornooi
END:VEVENT
BEGIN:VEVENT
DTSTART;TZID=UTC:20240726T195900
DTEND;TZID=UTC:20240726T235900
DTSTAMP:20260425T033239
CREATED:20240429T113402Z
LAST-MODIFIED:20240615T091158Z
UID:17821-1722023940-1722038340@leuvencentraal.be
SUMMARY:Zomertornooi R7/8/9
DESCRIPTION:
URL:https://leuvencentraal.be/event/zomertornooi-r7-8-9-4/
CATEGORIES:Zomertornooi
END:VEVENT
END:VCALENDAR