BEGIN:VCALENDAR
VERSION:2.0
PRODID:-//SCHAAKCLUB LEUVEN CENTRAAL VZW - ECPv6.8.3//NONSGML v1.0//EN
CALSCALE:GREGORIAN
METHOD:PUBLISH
X-WR-CALNAME:SCHAAKCLUB LEUVEN CENTRAAL VZW
X-ORIGINAL-URL:https://leuvencentraal.be
X-WR-CALDESC:Events voor SCHAAKCLUB LEUVEN CENTRAAL VZW
REFRESH-INTERVAL;VALUE=DURATION:PT1H
X-Robots-Tag:noindex
X-PUBLISHED-TTL:PT1H
BEGIN:VTIMEZONE
TZID:Europe/Paris
BEGIN:DAYLIGHT
TZOFFSETFROM:+0100
TZOFFSETTO:+0200
TZNAME:CEST
DTSTART:20210328T010000
END:DAYLIGHT
BEGIN:STANDARD
TZOFFSETFROM:+0200
TZOFFSETTO:+0100
TZNAME:CET
DTSTART:20211031T010000
END:STANDARD
END:VTIMEZONE
BEGIN:VEVENT
DTSTART;TZID=Europe/Paris:20210430T203000
DTEND;TZID=Europe/Paris:20210430T223000
DTSTAMP:20260420T074814
CREATED:20210409T061915Z
LAST-MODIFIED:20210409T061915Z
UID:2742-1619814600-1619821800@leuvencentraal.be
SUMMARY:Online Blitz
DESCRIPTION:
URL:https://leuvencentraal.be/event/online-blitz-13/
CATEGORIES:Online Blitz
END:VEVENT
BEGIN:VEVENT
DTSTART;TZID=Europe/Paris:20210423T203000
DTEND;TZID=Europe/Paris:20210423T223000
DTSTAMP:20260420T074814
CREATED:20210409T061900Z
LAST-MODIFIED:20210409T061900Z
UID:2739-1619209800-1619217000@leuvencentraal.be
SUMMARY:Online Blitz
DESCRIPTION:
URL:https://leuvencentraal.be/event/online-blitz-12/
CATEGORIES:Online Blitz
END:VEVENT
BEGIN:VEVENT
DTSTART;TZID=Europe/Paris:20210416T203000
DTEND;TZID=Europe/Paris:20210416T223000
DTSTAMP:20260420T074814
CREATED:20210409T061846Z
LAST-MODIFIED:20210409T061846Z
UID:2736-1618605000-1618612200@leuvencentraal.be
SUMMARY:Online Blitz
DESCRIPTION:
URL:https://leuvencentraal.be/event/online-blitz-11/
CATEGORIES:Online Blitz
END:VEVENT
BEGIN:VEVENT
DTSTART;TZID=Europe/Paris:20210409T203000
DTEND;TZID=Europe/Paris:20210409T223000
DTSTAMP:20260420T074814
CREATED:20210409T061735Z
LAST-MODIFIED:20210409T061827Z
UID:2733-1618000200-1618007400@leuvencentraal.be
SUMMARY:Online Blitz
DESCRIPTION:
URL:https://leuvencentraal.be/event/online-blitz-10/
CATEGORIES:Online Blitz
END:VEVENT
BEGIN:VEVENT
DTSTART;TZID=Europe/Paris:20210402T203000
DTEND;TZID=Europe/Paris:20210402T223000
DTSTAMP:20260420T074814
CREATED:20210130T150936Z
LAST-MODIFIED:20210320T081955Z
UID:895-1617395400-1617402600@leuvencentraal.be
SUMMARY:Online Blitz
DESCRIPTION:
URL:https://leuvencentraal.be/event/online-blitz-9/
CATEGORIES:Online Blitz
END:VEVENT
BEGIN:VEVENT
DTSTART;TZID=Europe/Paris:20210326T203000
DTEND;TZID=Europe/Paris:20210326T223000
DTSTAMP:20260420T074814
CREATED:20210130T150904Z
LAST-MODIFIED:20210320T081751Z
UID:892-1616790600-1616797800@leuvencentraal.be
SUMMARY:Online Blitz
DESCRIPTION:
URL:https://leuvencentraal.be/event/online-blitz-8/
CATEGORIES:Online Blitz
END:VEVENT
BEGIN:VEVENT
DTSTART;TZID=Europe/Paris:20210319T203000
DTEND;TZID=Europe/Paris:20210319T223000
DTSTAMP:20260420T074814
CREATED:20210130T150838Z
LAST-MODIFIED:20210130T150838Z
UID:889-1616185800-1616193000@leuvencentraal.be
SUMMARY:Online Blitz
DESCRIPTION:
URL:https://leuvencentraal.be/event/online-blitz-7/
CATEGORIES:Online Blitz
END:VEVENT
BEGIN:VEVENT
DTSTART;TZID=Europe/Paris:20210312T203000
DTEND;TZID=Europe/Paris:20210312T223000
DTSTAMP:20260420T074814
CREATED:20210130T150812Z
LAST-MODIFIED:20210130T150812Z
UID:885-1615581000-1615588200@leuvencentraal.be
SUMMARY:Online Blitz
DESCRIPTION:
URL:https://leuvencentraal.be/event/online-blitz-6/
CATEGORIES:Online Blitz
END:VEVENT
BEGIN:VEVENT
DTSTART;TZID=Europe/Paris:20210305T203000
DTEND;TZID=Europe/Paris:20210305T223000
DTSTAMP:20260420T074814
CREATED:20210130T150745Z
LAST-MODIFIED:20210130T150745Z
UID:883-1614976200-1614983400@leuvencentraal.be
SUMMARY:Online Blitz
DESCRIPTION:
URL:https://leuvencentraal.be/event/online-blitz-5/
CATEGORIES:Online Blitz
END:VEVENT
BEGIN:VEVENT
DTSTART;TZID=Europe/Paris:20210226T203000
DTEND;TZID=Europe/Paris:20210226T223000
DTSTAMP:20260420T074814
CREATED:20210130T150718Z
LAST-MODIFIED:20210130T150718Z
UID:880-1614371400-1614378600@leuvencentraal.be
SUMMARY:Online Blitz
DESCRIPTION:
URL:https://leuvencentraal.be/event/online-blitz-4/
CATEGORIES:Online Blitz
END:VEVENT
BEGIN:VEVENT
DTSTART;TZID=Europe/Paris:20210219T203000
DTEND;TZID=Europe/Paris:20210219T223000
DTSTAMP:20260420T074814
CREATED:20210130T150635Z
LAST-MODIFIED:20210130T150635Z
UID:877-1613766600-1613773800@leuvencentraal.be
SUMMARY:Online Blitz
DESCRIPTION:
URL:https://leuvencentraal.be/event/online-blitz-3/
CATEGORIES:Online Blitz
END:VEVENT
BEGIN:VEVENT
DTSTART;TZID=Europe/Paris:20210212T203000
DTEND;TZID=Europe/Paris:20210212T223000
DTSTAMP:20260420T074814
CREATED:20210130T150606Z
LAST-MODIFIED:20210130T150606Z
UID:874-1613161800-1613169000@leuvencentraal.be
SUMMARY:Online Blitz
DESCRIPTION:
URL:https://leuvencentraal.be/event/online-blitz-2/
CATEGORIES:Online Blitz
END:VEVENT
BEGIN:VEVENT
DTSTART;TZID=Europe/Paris:20210205T203000
DTEND;TZID=Europe/Paris:20210205T223000
DTSTAMP:20260420T074814
CREATED:20210130T150518Z
LAST-MODIFIED:20210130T150518Z
UID:871-1612557000-1612564200@leuvencentraal.be
SUMMARY:Online Blitz
DESCRIPTION:
URL:https://leuvencentraal.be/event/online-blitz/
CATEGORIES:Online Blitz
END:VEVENT
END:VCALENDAR