BEGIN:VCALENDAR
VERSION:2.0
PRODID:-//SCHAAKCLUB LEUVEN CENTRAAL VZW - ECPv6.8.3//NONSGML v1.0//EN
CALSCALE:GREGORIAN
METHOD:PUBLISH
X-WR-CALNAME:SCHAAKCLUB LEUVEN CENTRAAL VZW
X-ORIGINAL-URL:https://leuvencentraal.be
X-WR-CALDESC:Events voor SCHAAKCLUB LEUVEN CENTRAAL VZW
REFRESH-INTERVAL;VALUE=DURATION:PT1H
X-Robots-Tag:noindex
X-PUBLISHED-TTL:PT1H
BEGIN:VTIMEZONE
TZID:UTC
BEGIN:STANDARD
TZOFFSETFROM:+0000
TZOFFSETTO:+0000
TZNAME:UTC
DTSTART:20240101T000000
END:STANDARD
END:VTIMEZONE
BEGIN:VEVENT
DTSTART;TZID=UTC:20240830T195900
DTEND;TZID=UTC:20240830T235900
DTSTAMP:20260422T191014
CREATED:20240429T113617Z
LAST-MODIFIED:20240615T091924Z
UID:17829-1725047940-1725062340@leuvencentraal.be
SUMMARY:Zomertornooi R19/20/21
DESCRIPTION:
URL:https://leuvencentraal.be/event/zomertornooi-r19-20-21-5/
CATEGORIES:Zomertornooi
END:VEVENT
END:VCALENDAR