BEGIN:VCALENDAR
VERSION:2.0
PRODID:-//SCHAAKCLUB LEUVEN CENTRAAL VZW - ECPv6.8.3//NONSGML v1.0//EN
CALSCALE:GREGORIAN
METHOD:PUBLISH
X-WR-CALNAME:SCHAAKCLUB LEUVEN CENTRAAL VZW
X-ORIGINAL-URL:https://leuvencentraal.be
X-WR-CALDESC:Events voor SCHAAKCLUB LEUVEN CENTRAAL VZW
REFRESH-INTERVAL;VALUE=DURATION:PT1H
X-Robots-Tag:noindex
X-PUBLISHED-TTL:PT1H
BEGIN:VTIMEZONE
TZID:Europe/Paris
BEGIN:DAYLIGHT
TZOFFSETFROM:+0100
TZOFFSETTO:+0200
TZNAME:CEST
DTSTART:20210328T010000
END:DAYLIGHT
BEGIN:STANDARD
TZOFFSETFROM:+0200
TZOFFSETTO:+0100
TZNAME:CET
DTSTART:20211031T010000
END:STANDARD
BEGIN:DAYLIGHT
TZOFFSETFROM:+0100
TZOFFSETTO:+0200
TZNAME:CEST
DTSTART:20220327T010000
END:DAYLIGHT
BEGIN:STANDARD
TZOFFSETFROM:+0200
TZOFFSETTO:+0100
TZNAME:CET
DTSTART:20221030T010000
END:STANDARD
END:VTIMEZONE
BEGIN:VEVENT
DTSTART;TZID=Europe/Paris:20211105T200000
DTEND;TZID=Europe/Paris:20211105T233000
DTSTAMP:20260423T222717
CREATED:20211104T175101Z
LAST-MODIFIED:20211104T175101Z
UID:7971-1636142400-1636155000@leuvencentraal.be
SUMMARY:Open R7
DESCRIPTION:
URL:https://leuvencentraal.be/event/open-r7-2/
LOCATION:De Wingerd\, Wingerdstraat 14\, Leuven\, 3000\, Belgium
CATEGORIES:Open Tornooi
END:VEVENT
BEGIN:VEVENT
DTSTART;TZID=Europe/Paris:20211112T200000
DTEND;TZID=Europe/Paris:20211112T233000
DTSTAMP:20260423T222717
CREATED:20211104T175136Z
LAST-MODIFIED:20211104T175136Z
UID:7974-1636747200-1636759800@leuvencentraal.be
SUMMARY:Open R8
DESCRIPTION:
URL:https://leuvencentraal.be/event/open-r8/
LOCATION:De Wingerd\, Wingerdstraat 14\, Leuven\, 3000\, Belgium
CATEGORIES:Open Tornooi
END:VEVENT
BEGIN:VEVENT
DTSTART;TZID=Europe/Paris:20211119T200000
DTEND;TZID=Europe/Paris:20211119T233000
DTSTAMP:20260423T222717
CREATED:20211104T175159Z
LAST-MODIFIED:20211104T175159Z
UID:7977-1637352000-1637364600@leuvencentraal.be
SUMMARY:Open R9
DESCRIPTION:
URL:https://leuvencentraal.be/event/open-r9/
LOCATION:De Wingerd\, Wingerdstraat 14\, Leuven\, 3000\, Belgium
CATEGORIES:Open Tornooi
END:VEVENT
BEGIN:VEVENT
DTSTART;TZID=Europe/Paris:20211126T200000
DTEND;TZID=Europe/Paris:20211126T233000
DTSTAMP:20260423T222717
CREATED:20211104T175221Z
LAST-MODIFIED:20211104T175221Z
UID:7980-1637956800-1637969400@leuvencentraal.be
SUMMARY:Open R10
DESCRIPTION:
URL:https://leuvencentraal.be/event/open-r10/
LOCATION:De Wingerd\, Wingerdstraat 14\, Leuven\, 3000\, Belgium
CATEGORIES:Open Tornooi
END:VEVENT
BEGIN:VEVENT
DTSTART;TZID=Europe/Paris:20211203T200000
DTEND;TZID=Europe/Paris:20211203T233000
DTSTAMP:20260423T222717
CREATED:20211104T175242Z
LAST-MODIFIED:20211104T175242Z
UID:7983-1638561600-1638574200@leuvencentraal.be
SUMMARY:Open R11
DESCRIPTION:
URL:https://leuvencentraal.be/event/open-r11/
LOCATION:De Wingerd\, Wingerdstraat 14\, Leuven\, 3000\, Belgium
CATEGORIES:Open Tornooi
END:VEVENT
BEGIN:VEVENT
DTSTART;TZID=Europe/Paris:20211210T200000
DTEND;TZID=Europe/Paris:20211210T233000
DTSTAMP:20260423T222717
CREATED:20211104T175305Z
LAST-MODIFIED:20211104T175305Z
UID:7986-1639166400-1639179000@leuvencentraal.be
SUMMARY:Open R12
DESCRIPTION:
URL:https://leuvencentraal.be/event/open-r12/
LOCATION:De Wingerd\, Wingerdstraat 14\, Leuven\, 3000\, Belgium
CATEGORIES:Open Tornooi
END:VEVENT
BEGIN:VEVENT
DTSTART;TZID=Europe/Paris:20211217T200000
DTEND;TZID=Europe/Paris:20211217T233000
DTSTAMP:20260423T222717
CREATED:20211104T175327Z
LAST-MODIFIED:20211104T175327Z
UID:7989-1639771200-1639783800@leuvencentraal.be
SUMMARY:Open R13
DESCRIPTION:
URL:https://leuvencentraal.be/event/open-r13/
LOCATION:De Wingerd\, Wingerdstraat 14\, Leuven\, 3000\, Belgium
CATEGORIES:Open Tornooi
END:VEVENT
BEGIN:VEVENT
DTSTART;TZID=Europe/Paris:20220107T200000
DTEND;TZID=Europe/Paris:20220107T233000
DTSTAMP:20260423T222717
CREATED:20220105T235809Z
LAST-MODIFIED:20220105T235809Z
UID:8356-1641585600-1641598200@leuvencentraal.be
SUMMARY:Geen schaken
DESCRIPTION:
URL:https://leuvencentraal.be/event/geen-schaken/
LOCATION:De Wingerd\, Wingerdstraat 14\, Leuven\, 3000\, Belgium
CATEGORIES:Open Tornooi
END:VEVENT
BEGIN:VEVENT
DTSTART;TZID=Europe/Paris:20220114T200000
DTEND;TZID=Europe/Paris:20220114T233000
DTSTAMP:20260423T222717
CREATED:20220105T235908Z
LAST-MODIFIED:20220105T235908Z
UID:8359-1642190400-1642203000@leuvencentraal.be
SUMMARY:Geen schaken
DESCRIPTION:
URL:https://leuvencentraal.be/event/geen-schaken-2/
LOCATION:De Wingerd\, Wingerdstraat 14\, Leuven\, 3000\, Belgium
CATEGORIES:Open Tornooi
END:VEVENT
BEGIN:VEVENT
DTSTART;TZID=Europe/Paris:20220121T200000
DTEND;TZID=Europe/Paris:20220121T233000
DTSTAMP:20260423T222717
CREATED:20211217T184307Z
LAST-MODIFIED:20220105T235633Z
UID:8313-1642795200-1642807800@leuvencentraal.be
SUMMARY:Geen schaken
DESCRIPTION:
URL:https://leuvencentraal.be/event/geen_schaken/
LOCATION:De Wingerd\, Wingerdstraat 14\, Leuven\, 3000\, Belgium
CATEGORIES:Open Tornooi
END:VEVENT
BEGIN:VEVENT
DTSTART;TZID=Europe/Paris:20220128T200000
DTEND;TZID=Europe/Paris:20220128T233000
DTSTAMP:20260423T222717
CREATED:20220106T000000Z
LAST-MODIFIED:20220106T000000Z
UID:8362-1643400000-1643412600@leuvencentraal.be
SUMMARY:Geen schaken
DESCRIPTION:
URL:https://leuvencentraal.be/event/geen-schaken-3/
LOCATION:De Wingerd\, Wingerdstraat 14\, Leuven\, 3000\, Belgium
CATEGORIES:Open Tornooi
END:VEVENT
BEGIN:VEVENT
DTSTART;TZID=Europe/Paris:20220204T200000
DTEND;TZID=Europe/Paris:20220204T233000
DTSTAMP:20260423T222717
CREATED:20211217T184051Z
LAST-MODIFIED:20220105T235348Z
UID:8307-1644004800-1644017400@leuvencentraal.be
SUMMARY:Open R14
DESCRIPTION:
URL:https://leuvencentraal.be/event/open-r14/
LOCATION:De Wingerd\, Wingerdstraat 14\, Leuven\, 3000\, Belgium
CATEGORIES:Open Tornooi
END:VEVENT
BEGIN:VEVENT
DTSTART;TZID=Europe/Paris:20220211T200000
DTEND;TZID=Europe/Paris:20220211T233000
DTSTAMP:20260423T222717
CREATED:20211217T184204Z
LAST-MODIFIED:20220105T235432Z
UID:8310-1644609600-1644622200@leuvencentraal.be
SUMMARY:Open R15
DESCRIPTION:
URL:https://leuvencentraal.be/event/open-r15/
LOCATION:De Wingerd\, Wingerdstraat 14\, Leuven\, 3000\, Belgium
CATEGORIES:Open Tornooi
END:VEVENT
BEGIN:VEVENT
DTSTART;TZID=Europe/Paris:20220218T200000
DTEND;TZID=Europe/Paris:20220218T233000
DTSTAMP:20260423T222717
CREATED:20211217T184448Z
LAST-MODIFIED:20220105T235129Z
UID:8316-1645214400-1645227000@leuvencentraal.be
SUMMARY:Algemene Vergadering
DESCRIPTION:
URL:https://leuvencentraal.be/event/algemene-vergadering/
LOCATION:De Wingerd\, Wingerdstraat 14\, Leuven\, 3000\, Belgium
CATEGORIES:Open Tornooi
END:VEVENT
BEGIN:VEVENT
DTSTART;TZID=Europe/Paris:20220225T200000
DTEND;TZID=Europe/Paris:20220225T233000
DTSTAMP:20260423T222717
CREATED:20220222T201856Z
LAST-MODIFIED:20220222T201856Z
UID:8415-1645819200-1645831800@leuvencentraal.be
SUMMARY:Open R1
DESCRIPTION:
URL:https://leuvencentraal.be/event/open-r1-2/
LOCATION:De Wingerd\, Wingerdstraat 14\, Leuven\, 3000\, Belgium
CATEGORIES:Open Tornooi
END:VEVENT
BEGIN:VEVENT
DTSTART;TZID=Europe/Paris:20220304T200000
DTEND;TZID=Europe/Paris:20220304T233000
DTSTAMP:20260423T222717
CREATED:20220222T202041Z
LAST-MODIFIED:20220222T202041Z
UID:8418-1646424000-1646436600@leuvencentraal.be
SUMMARY:Open R2
DESCRIPTION:
URL:https://leuvencentraal.be/event/open-r2-2/
LOCATION:De Wingerd\, Wingerdstraat 14\, Leuven\, 3000\, Belgium
CATEGORIES:Open Tornooi
END:VEVENT
BEGIN:VEVENT
DTSTART;TZID=Europe/Paris:20220310T200000
DTEND;TZID=Europe/Paris:20220310T233000
DTSTAMP:20260423T222717
CREATED:20220304T192754Z
LAST-MODIFIED:20220304T192754Z
UID:8477-1646942400-1646955000@leuvencentraal.be
SUMMARY:BAV LeuvenCentraal vzw
DESCRIPTION:
URL:https://leuvencentraal.be/event/bav-leuvencentraal-vzw/
LOCATION:De Wingerd\, Wingerdstraat 14\, Leuven\, 3000\, Belgium
CATEGORIES:Open Tornooi
END:VEVENT
BEGIN:VEVENT
DTSTART;TZID=Europe/Paris:20220311T200000
DTEND;TZID=Europe/Paris:20220311T233000
DTSTAMP:20260423T222717
CREATED:20220304T105215Z
LAST-MODIFIED:20220304T105215Z
UID:8439-1647028800-1647041400@leuvencentraal.be
SUMMARY:Les volwassenen - Deel 1
DESCRIPTION:
URL:https://leuvencentraal.be/event/les-volwassenen-deel-1-2/
LOCATION:De Wingerd\, Wingerdstraat 14\, Leuven\, 3000\, Belgium
CATEGORIES:Open Tornooi
END:VEVENT
BEGIN:VEVENT
DTSTART;TZID=Europe/Paris:20220318T200000
DTEND;TZID=Europe/Paris:20220318T233000
DTSTAMP:20260423T222717
CREATED:20220222T202135Z
LAST-MODIFIED:20220304T104658Z
UID:8421-1647633600-1647646200@leuvencentraal.be
SUMMARY:Open R3
DESCRIPTION:
URL:https://leuvencentraal.be/event/open-r3-2/
LOCATION:De Wingerd\, Wingerdstraat 14\, Leuven\, 3000\, Belgium
CATEGORIES:Open Tornooi
END:VEVENT
BEGIN:VEVENT
DTSTART;TZID=Europe/Paris:20220325T200000
DTEND;TZID=Europe/Paris:20220325T233000
DTSTAMP:20260423T222717
CREATED:20220304T104800Z
LAST-MODIFIED:20220304T104800Z
UID:8428-1648238400-1648251000@leuvencentraal.be
SUMMARY:Open R4
DESCRIPTION:
URL:https://leuvencentraal.be/event/open-r4-2/
LOCATION:De Wingerd\, Wingerdstraat 14\, Leuven\, 3000\, Belgium
CATEGORIES:Open Tornooi
END:VEVENT
BEGIN:VEVENT
DTSTART;TZID=Europe/Paris:20220401T200000
DTEND;TZID=Europe/Paris:20220401T233000
DTSTAMP:20260423T222717
CREATED:20220304T105027Z
LAST-MODIFIED:20220304T105118Z
UID:8434-1648843200-1648855800@leuvencentraal.be
SUMMARY:Les volwassenen - Deel 2
DESCRIPTION:
URL:https://leuvencentraal.be/event/les-volwassenen-deel-1/
LOCATION:De Wingerd\, Wingerdstraat 14\, Leuven\, 3000\, Belgium
CATEGORIES:Open Tornooi
END:VEVENT
BEGIN:VEVENT
DTSTART;TZID=Europe/Paris:20220408T200000
DTEND;TZID=Europe/Paris:20220408T233000
DTSTAMP:20260423T222717
CREATED:20220304T104855Z
LAST-MODIFIED:20220304T104855Z
UID:8431-1649448000-1649460600@leuvencentraal.be
SUMMARY:Open R5
DESCRIPTION:
URL:https://leuvencentraal.be/event/open-r5-2/
LOCATION:De Wingerd\, Wingerdstraat 14\, Leuven\, 3000\, Belgium
CATEGORIES:Open Tornooi
END:VEVENT
BEGIN:VEVENT
DTSTART;TZID=Europe/Paris:20220415T200000
DTEND;TZID=Europe/Paris:20220415T233000
DTSTAMP:20260423T222717
CREATED:20220304T105534Z
LAST-MODIFIED:20220304T105534Z
UID:8448-1650052800-1650065400@leuvencentraal.be
SUMMARY:Open R6
DESCRIPTION:
URL:https://leuvencentraal.be/event/open-r6-2/
LOCATION:De Wingerd\, Wingerdstraat 14\, Leuven\, 3000\, Belgium
CATEGORIES:Open Tornooi
END:VEVENT
BEGIN:VEVENT
DTSTART;TZID=Europe/Paris:20220422T200000
DTEND;TZID=Europe/Paris:20220422T233000
DTSTAMP:20260423T222717
CREATED:20220304T105330Z
LAST-MODIFIED:20220304T105330Z
UID:8442-1650657600-1650670200@leuvencentraal.be
SUMMARY:Les volwassenen - Deel 3
DESCRIPTION:
URL:https://leuvencentraal.be/event/les-volwassenen-deel-3/
LOCATION:De Wingerd\, Wingerdstraat 14\, Leuven\, 3000\, Belgium
CATEGORIES:Open Tornooi
END:VEVENT
BEGIN:VEVENT
DTSTART;TZID=Europe/Paris:20220429T200000
DTEND;TZID=Europe/Paris:20220429T233000
DTSTAMP:20260423T222717
CREATED:20220304T105625Z
LAST-MODIFIED:20220304T105625Z
UID:8451-1651262400-1651275000@leuvencentraal.be
SUMMARY:Open R7
DESCRIPTION:
URL:https://leuvencentraal.be/event/open-r7-3/
LOCATION:De Wingerd\, Wingerdstraat 14\, Leuven\, 3000\, Belgium
CATEGORIES:Open Tornooi
END:VEVENT
BEGIN:VEVENT
DTSTART;TZID=Europe/Paris:20220506T200000
DTEND;TZID=Europe/Paris:20220506T233000
DTSTAMP:20260423T222717
CREATED:20220304T105724Z
LAST-MODIFIED:20220304T105724Z
UID:8454-1651867200-1651879800@leuvencentraal.be
SUMMARY:Open R8
DESCRIPTION:
URL:https://leuvencentraal.be/event/open-r8-2/
LOCATION:De Wingerd\, Wingerdstraat 14\, Leuven\, 3000\, Belgium
CATEGORIES:Open Tornooi
END:VEVENT
BEGIN:VEVENT
DTSTART;TZID=Europe/Paris:20220513T200000
DTEND;TZID=Europe/Paris:20220513T233000
DTSTAMP:20260423T222717
CREATED:20220304T105422Z
LAST-MODIFIED:20220304T105422Z
UID:8445-1652472000-1652484600@leuvencentraal.be
SUMMARY:Les volwassenen - Deel 4
DESCRIPTION:
URL:https://leuvencentraal.be/event/les-volwassenen-deel-4/
LOCATION:De Wingerd\, Wingerdstraat 14\, Leuven\, 3000\, Belgium
CATEGORIES:Open Tornooi
END:VEVENT
BEGIN:VEVENT
DTSTART;TZID=Europe/Paris:20220520T200000
DTEND;TZID=Europe/Paris:20220520T233000
DTSTAMP:20260423T222717
CREATED:20220304T105813Z
LAST-MODIFIED:20220304T105813Z
UID:8457-1653076800-1653089400@leuvencentraal.be
SUMMARY:Open R9
DESCRIPTION:
URL:https://leuvencentraal.be/event/open-r9-2/
LOCATION:De Wingerd\, Wingerdstraat 14\, Leuven\, 3000\, Belgium
CATEGORIES:Open Tornooi
END:VEVENT
BEGIN:VEVENT
DTSTART;TZID=Europe/Paris:20220527T200000
DTEND;TZID=Europe/Paris:20220527T233000
DTSTAMP:20260423T222717
CREATED:20220304T105906Z
LAST-MODIFIED:20220304T105906Z
UID:8461-1653681600-1653694200@leuvencentraal.be
SUMMARY:Open R10
DESCRIPTION:
URL:https://leuvencentraal.be/event/open-r10-2/
LOCATION:De Wingerd\, Wingerdstraat 14\, Leuven\, 3000\, Belgium
CATEGORIES:Open Tornooi
END:VEVENT
BEGIN:VEVENT
DTSTART;TZID=Europe/Paris:20220603T200000
DTEND;TZID=Europe/Paris:20220603T233000
DTSTAMP:20260423T222717
CREATED:20220304T110352Z
LAST-MODIFIED:20220304T110352Z
UID:8472-1654286400-1654299000@leuvencentraal.be
SUMMARY:Blitz
DESCRIPTION:
URL:https://leuvencentraal.be/event/blitz/
LOCATION:De Wingerd\, Wingerdstraat 14\, Leuven\, 3000\, Belgium
CATEGORIES:Open Tornooi
END:VEVENT
END:VCALENDAR