BEGIN:VCALENDAR
VERSION:2.0
PRODID:-//SCHAAKCLUB LEUVEN CENTRAAL VZW - ECPv6.8.3//NONSGML v1.0//EN
CALSCALE:GREGORIAN
METHOD:PUBLISH
X-WR-CALNAME:SCHAAKCLUB LEUVEN CENTRAAL VZW
X-ORIGINAL-URL:https://leuvencentraal.be
X-WR-CALDESC:Events voor SCHAAKCLUB LEUVEN CENTRAAL VZW
REFRESH-INTERVAL;VALUE=DURATION:PT1H
X-Robots-Tag:noindex
X-PUBLISHED-TTL:PT1H
BEGIN:VTIMEZONE
TZID:UTC
BEGIN:STANDARD
TZOFFSETFROM:+0000
TZOFFSETTO:+0000
TZNAME:UTC
DTSTART:20230101T000000
END:STANDARD
END:VTIMEZONE
BEGIN:VEVENT
DTSTART;TZID=UTC:20230526T195900
DTEND;TZID=UTC:20230526T195900
DTSTAMP:20260421T142539
CREATED:20230228T204211Z
LAST-MODIFIED:20230228T204211Z
UID:13079-1685131140-1685131140@leuvencentraal.be
SUMMARY:Pinkster Blitz
DESCRIPTION:
URL:https://leuvencentraal.be/event/pinkster-blitz/
CATEGORIES:Open Tornooi
END:VEVENT
END:VCALENDAR