BEGIN:VCALENDAR
VERSION:2.0
PRODID:-//SCHAAKCLUB LEUVEN CENTRAAL VZW - ECPv6.8.3//NONSGML v1.0//EN
CALSCALE:GREGORIAN
METHOD:PUBLISH
X-WR-CALNAME:SCHAAKCLUB LEUVEN CENTRAAL VZW
X-ORIGINAL-URL:https://leuvencentraal.be
X-WR-CALDESC:Events voor SCHAAKCLUB LEUVEN CENTRAAL VZW
REFRESH-INTERVAL;VALUE=DURATION:PT1H
X-Robots-Tag:noindex
X-PUBLISHED-TTL:PT1H
BEGIN:VTIMEZONE
TZID:Europe/Paris
BEGIN:DAYLIGHT
TZOFFSETFROM:+0100
TZOFFSETTO:+0200
TZNAME:CEST
DTSTART:20220327T010000
END:DAYLIGHT
BEGIN:STANDARD
TZOFFSETFROM:+0200
TZOFFSETTO:+0100
TZNAME:CET
DTSTART:20221030T010000
END:STANDARD
END:VTIMEZONE
BEGIN:VEVENT
DTSTART;TZID=Europe/Paris:20220318T200000
DTEND;TZID=Europe/Paris:20220318T233000
DTSTAMP:20260423T064226
CREATED:20220222T202135Z
LAST-MODIFIED:20220304T104658Z
UID:8421-1647633600-1647646200@leuvencentraal.be
SUMMARY:Open R3
DESCRIPTION:
URL:https://leuvencentraal.be/event/open-r3-2/
LOCATION:De Wingerd\, Wingerdstraat 14\, Leuven\, 3000\, Belgium
CATEGORIES:Open Tornooi
END:VEVENT
END:VCALENDAR