BEGIN:VCALENDAR
VERSION:2.0
PRODID:-//SCHAAKCLUB LEUVEN CENTRAAL VZW - ECPv6.8.3//NONSGML v1.0//EN
CALSCALE:GREGORIAN
METHOD:PUBLISH
X-ORIGINAL-URL:https://leuvencentraal.be
X-WR-CALDESC:Events voor SCHAAKCLUB LEUVEN CENTRAAL VZW
REFRESH-INTERVAL;VALUE=DURATION:PT1H
X-Robots-Tag:noindex
X-PUBLISHED-TTL:PT1H
BEGIN:VTIMEZONE
TZID:Europe/Paris
BEGIN:DAYLIGHT
TZOFFSETFROM:+0100
TZOFFSETTO:+0200
TZNAME:CEST
DTSTART:20220327T010000
END:DAYLIGHT
BEGIN:STANDARD
TZOFFSETFROM:+0200
TZOFFSETTO:+0100
TZNAME:CET
DTSTART:20221030T010000
END:STANDARD
END:VTIMEZONE
BEGIN:VEVENT
DTSTART;TZID=Europe/Paris:20221104T200000
DTEND;TZID=Europe/Paris:20221104T233000
DTSTAMP:20260422T021130
CREATED:20220821T195445Z
LAST-MODIFIED:20221008T112152Z
UID:10205-1667592000-1667604600@leuvencentraal.be
SUMMARY:Les volwassenen:  Eindspel
DESCRIPTION:
URL:https://leuvencentraal.be/event/les-volwassenen/
LOCATION:De Wingerd\, Wingerdstraat 14\, Leuven\, 3000\, Belgium
CATEGORIES:Open Tornooi
END:VEVENT
BEGIN:VEVENT
DTSTART;TZID=Europe/Paris:20221118T200000
DTEND;TZID=Europe/Paris:20221118T233000
DTSTAMP:20260422T021130
CREATED:20220821T195726Z
LAST-MODIFIED:20220821T195726Z
UID:10217-1668801600-1668814200@leuvencentraal.be
SUMMARY:Open R8
DESCRIPTION:
URL:https://leuvencentraal.be/event/open-r8-3/
LOCATION:De Wingerd\, Wingerdstraat 14\, Leuven\, 3000\, Belgium
CATEGORIES:Open Tornooi
END:VEVENT
BEGIN:VEVENT
DTSTART;TZID=Europe/Paris:20221125T200000
DTEND;TZID=Europe/Paris:20221125T233000
DTSTAMP:20260422T021130
CREATED:20220821T195800Z
LAST-MODIFIED:20220821T195800Z
UID:10220-1669406400-1669419000@leuvencentraal.be
SUMMARY:Open R9
DESCRIPTION:
URL:https://leuvencentraal.be/event/open-r9-3/
LOCATION:De Wingerd\, Wingerdstraat 14\, Leuven\, 3000\, Belgium
CATEGORIES:Open Tornooi
END:VEVENT
END:VCALENDAR