BEGIN:VCALENDAR
VERSION:2.0
PRODID:-//SCHAAKCLUB LEUVEN CENTRAAL VZW - ECPv6.8.3//NONSGML v1.0//EN
CALSCALE:GREGORIAN
METHOD:PUBLISH
X-WR-CALNAME:SCHAAKCLUB LEUVEN CENTRAAL VZW
X-ORIGINAL-URL:https://leuvencentraal.be
X-WR-CALDESC:Events voor SCHAAKCLUB LEUVEN CENTRAAL VZW
REFRESH-INTERVAL;VALUE=DURATION:PT1H
X-Robots-Tag:noindex
X-PUBLISHED-TTL:PT1H
BEGIN:VTIMEZONE
TZID:Europe/Paris
BEGIN:DAYLIGHT
TZOFFSETFROM:+0100
TZOFFSETTO:+0200
TZNAME:CEST
DTSTART:20220327T010000
END:DAYLIGHT
BEGIN:STANDARD
TZOFFSETFROM:+0200
TZOFFSETTO:+0100
TZNAME:CET
DTSTART:20221030T010000
END:STANDARD
END:VTIMEZONE
BEGIN:VEVENT
DTSTART;TZID=Europe/Paris:20221007T200000
DTEND;TZID=Europe/Paris:20221007T233000
DTSTAMP:20260422T035642
CREATED:20220821T195225Z
LAST-MODIFIED:20220821T195225Z
UID:10187-1665172800-1665185400@leuvencentraal.be
SUMMARY:Open R4
DESCRIPTION:
URL:https://leuvencentraal.be/event/open-r4-3/
LOCATION:De Wingerd\, Wingerdstraat 14\, Leuven\, 3000\, Belgium
CATEGORIES:Open Tornooi
END:VEVENT
BEGIN:VEVENT
DTSTART;TZID=Europe/Paris:20221014T200000
DTEND;TZID=Europe/Paris:20221014T233000
DTSTAMP:20260422T035642
CREATED:20220821T195522Z
LAST-MODIFIED:20221008T112022Z
UID:10208-1665777600-1665790200@leuvencentraal.be
SUMMARY:Open R5
DESCRIPTION:
URL:https://leuvencentraal.be/event/open-r5-3/
LOCATION:De Wingerd\, Wingerdstraat 14\, Leuven\, 3000\, Belgium
CATEGORIES:Open Tornooi
END:VEVENT
BEGIN:VEVENT
DTSTART;TZID=Europe/Paris:20221021T200000
DTEND;TZID=Europe/Paris:20221021T233000
DTSTAMP:20260422T035642
CREATED:20220821T195546Z
LAST-MODIFIED:20221008T112037Z
UID:10211-1666382400-1666395000@leuvencentraal.be
SUMMARY:Open R6
DESCRIPTION:
URL:https://leuvencentraal.be/event/open-r6-3/
LOCATION:De Wingerd\, Wingerdstraat 14\, Leuven\, 3000\, Belgium
CATEGORIES:Open Tornooi
END:VEVENT
BEGIN:VEVENT
DTSTART;TZID=Europe/Paris:20221028T200000
DTEND;TZID=Europe/Paris:20221028T233000
DTSTAMP:20260422T035642
CREATED:20220821T195611Z
LAST-MODIFIED:20221008T112057Z
UID:10214-1666987200-1666999800@leuvencentraal.be
SUMMARY:Open R7
DESCRIPTION:
URL:https://leuvencentraal.be/event/open-r7-4/
LOCATION:De Wingerd\, Wingerdstraat 14\, Leuven\, 3000\, Belgium
CATEGORIES:Open Tornooi
END:VEVENT
END:VCALENDAR