BEGIN:VCALENDAR
VERSION:2.0
PRODID:-//SCHAAKCLUB LEUVEN CENTRAAL VZW - ECPv6.8.3//NONSGML v1.0//EN
CALSCALE:GREGORIAN
METHOD:PUBLISH
X-ORIGINAL-URL:https://leuvencentraal.be
X-WR-CALDESC:Events voor SCHAAKCLUB LEUVEN CENTRAAL VZW
REFRESH-INTERVAL;VALUE=DURATION:PT1H
X-Robots-Tag:noindex
X-PUBLISHED-TTL:PT1H
BEGIN:VTIMEZONE
TZID:Europe/Paris
BEGIN:DAYLIGHT
TZOFFSETFROM:+0100
TZOFFSETTO:+0200
TZNAME:CEST
DTSTART:20220327T010000
END:DAYLIGHT
BEGIN:STANDARD
TZOFFSETFROM:+0200
TZOFFSETTO:+0100
TZNAME:CET
DTSTART:20221030T010000
END:STANDARD
END:VTIMEZONE
BEGIN:VEVENT
DTSTART;TZID=Europe/Paris:20220603T200000
DTEND;TZID=Europe/Paris:20220603T233000
DTSTAMP:20260422T200628
CREATED:20220304T110352Z
LAST-MODIFIED:20220304T110352Z
UID:8472-1654286400-1654299000@leuvencentraal.be
SUMMARY:Blitz
DESCRIPTION:
URL:https://leuvencentraal.be/event/blitz/
LOCATION:De Wingerd\, Wingerdstraat 14\, Leuven\, 3000\, Belgium
CATEGORIES:Open Tornooi
END:VEVENT
BEGIN:VEVENT
DTSTART;TZID=Europe/Paris:20220610T200000
DTEND;TZID=Europe/Paris:20220610T233000
DTSTAMP:20260422T200628
CREATED:20220304T105942Z
LAST-MODIFIED:20220304T105942Z
UID:8460-1654891200-1654903800@leuvencentraal.be
SUMMARY:Open R11
DESCRIPTION:
URL:https://leuvencentraal.be/event/open-r11-2/
LOCATION:De Wingerd\, Wingerdstraat 14\, Leuven\, 3000\, Belgium
CATEGORIES:Open Tornooi
END:VEVENT
BEGIN:VEVENT
DTSTART;TZID=Europe/Paris:20220617T200000
DTEND;TZID=Europe/Paris:20220617T233000
DTSTAMP:20260422T200628
CREATED:20220304T110028Z
LAST-MODIFIED:20220304T110028Z
UID:8466-1655496000-1655508600@leuvencentraal.be
SUMMARY:Open R12
DESCRIPTION:
URL:https://leuvencentraal.be/event/open-r12-2/
LOCATION:De Wingerd\, Wingerdstraat 14\, Leuven\, 3000\, Belgium
CATEGORIES:Open Tornooi
END:VEVENT
BEGIN:VEVENT
DTSTART;TZID=Europe/Paris:20220624T200000
DTEND;TZID=Europe/Paris:20220624T233000
DTSTAMP:20260422T200628
CREATED:20220304T110123Z
LAST-MODIFIED:20220619T081906Z
UID:8469-1656100800-1656113400@leuvencentraal.be
SUMMARY:Open R13
DESCRIPTION:
URL:https://leuvencentraal.be/event/club-event/
LOCATION:De Wingerd\, Wingerdstraat 14\, Leuven\, 3000\, Belgium
CATEGORIES:Open Tornooi
END:VEVENT
END:VCALENDAR