BEGIN:VCALENDAR
VERSION:2.0
PRODID:-//SCHAAKCLUB LEUVEN CENTRAAL VZW - ECPv6.8.3//NONSGML v1.0//EN
CALSCALE:GREGORIAN
METHOD:PUBLISH
X-WR-CALNAME:SCHAAKCLUB LEUVEN CENTRAAL VZW
X-ORIGINAL-URL:https://leuvencentraal.be
X-WR-CALDESC:Events voor SCHAAKCLUB LEUVEN CENTRAAL VZW
REFRESH-INTERVAL;VALUE=DURATION:PT1H
X-Robots-Tag:noindex
X-PUBLISHED-TTL:PT1H
BEGIN:VTIMEZONE
TZID:Europe/Paris
BEGIN:DAYLIGHT
TZOFFSETFROM:+0100
TZOFFSETTO:+0200
TZNAME:CEST
DTSTART:20220327T010000
END:DAYLIGHT
BEGIN:STANDARD
TZOFFSETFROM:+0200
TZOFFSETTO:+0100
TZNAME:CET
DTSTART:20221030T010000
END:STANDARD
END:VTIMEZONE
BEGIN:VEVENT
DTSTART;TZID=Europe/Paris:20220506T200000
DTEND;TZID=Europe/Paris:20220506T233000
DTSTAMP:20260423T015550
CREATED:20220304T105724Z
LAST-MODIFIED:20220304T105724Z
UID:8454-1651867200-1651879800@leuvencentraal.be
SUMMARY:Open R8
DESCRIPTION:
URL:https://leuvencentraal.be/event/open-r8-2/
LOCATION:De Wingerd\, Wingerdstraat 14\, Leuven\, 3000\, Belgium
CATEGORIES:Open Tornooi
END:VEVENT
BEGIN:VEVENT
DTSTART;TZID=Europe/Paris:20220513T200000
DTEND;TZID=Europe/Paris:20220513T233000
DTSTAMP:20260423T015550
CREATED:20220304T105422Z
LAST-MODIFIED:20220304T105422Z
UID:8445-1652472000-1652484600@leuvencentraal.be
SUMMARY:Les volwassenen - Deel 4
DESCRIPTION:
URL:https://leuvencentraal.be/event/les-volwassenen-deel-4/
LOCATION:De Wingerd\, Wingerdstraat 14\, Leuven\, 3000\, Belgium
CATEGORIES:Open Tornooi
END:VEVENT
BEGIN:VEVENT
DTSTART;TZID=Europe/Paris:20220520T200000
DTEND;TZID=Europe/Paris:20220520T233000
DTSTAMP:20260423T015550
CREATED:20220304T105813Z
LAST-MODIFIED:20220304T105813Z
UID:8457-1653076800-1653089400@leuvencentraal.be
SUMMARY:Open R9
DESCRIPTION:
URL:https://leuvencentraal.be/event/open-r9-2/
LOCATION:De Wingerd\, Wingerdstraat 14\, Leuven\, 3000\, Belgium
CATEGORIES:Open Tornooi
END:VEVENT
BEGIN:VEVENT
DTSTART;TZID=Europe/Paris:20220527T200000
DTEND;TZID=Europe/Paris:20220527T233000
DTSTAMP:20260423T015550
CREATED:20220304T105906Z
LAST-MODIFIED:20220304T105906Z
UID:8461-1653681600-1653694200@leuvencentraal.be
SUMMARY:Open R10
DESCRIPTION:
URL:https://leuvencentraal.be/event/open-r10-2/
LOCATION:De Wingerd\, Wingerdstraat 14\, Leuven\, 3000\, Belgium
CATEGORIES:Open Tornooi
END:VEVENT
END:VCALENDAR