BEGIN:VCALENDAR
VERSION:2.0
PRODID:-//SCHAAKCLUB LEUVEN CENTRAAL VZW - ECPv6.8.3//NONSGML v1.0//EN
CALSCALE:GREGORIAN
METHOD:PUBLISH
X-WR-CALNAME:SCHAAKCLUB LEUVEN CENTRAAL VZW
X-ORIGINAL-URL:https://leuvencentraal.be
X-WR-CALDESC:Events voor SCHAAKCLUB LEUVEN CENTRAAL VZW
REFRESH-INTERVAL;VALUE=DURATION:PT1H
X-Robots-Tag:noindex
X-PUBLISHED-TTL:PT1H
BEGIN:VTIMEZONE
TZID:Europe/Paris
BEGIN:DAYLIGHT
TZOFFSETFROM:+0100
TZOFFSETTO:+0200
TZNAME:CEST
DTSTART:20220327T010000
END:DAYLIGHT
BEGIN:STANDARD
TZOFFSETFROM:+0200
TZOFFSETTO:+0100
TZNAME:CET
DTSTART:20221030T010000
END:STANDARD
END:VTIMEZONE
BEGIN:VEVENT
DTSTART;TZID=Europe/Paris:20220107T200000
DTEND;TZID=Europe/Paris:20220107T233000
DTSTAMP:20260423T104535
CREATED:20220105T235809Z
LAST-MODIFIED:20220105T235809Z
UID:8356-1641585600-1641598200@leuvencentraal.be
SUMMARY:Geen schaken
DESCRIPTION:
URL:https://leuvencentraal.be/event/geen-schaken/
LOCATION:De Wingerd\, Wingerdstraat 14\, Leuven\, 3000\, Belgium
CATEGORIES:Open Tornooi
END:VEVENT
BEGIN:VEVENT
DTSTART;TZID=Europe/Paris:20220114T200000
DTEND;TZID=Europe/Paris:20220114T233000
DTSTAMP:20260423T104535
CREATED:20220105T235908Z
LAST-MODIFIED:20220105T235908Z
UID:8359-1642190400-1642203000@leuvencentraal.be
SUMMARY:Geen schaken
DESCRIPTION:
URL:https://leuvencentraal.be/event/geen-schaken-2/
LOCATION:De Wingerd\, Wingerdstraat 14\, Leuven\, 3000\, Belgium
CATEGORIES:Open Tornooi
END:VEVENT
BEGIN:VEVENT
DTSTART;TZID=Europe/Paris:20220121T200000
DTEND;TZID=Europe/Paris:20220121T233000
DTSTAMP:20260423T104535
CREATED:20211217T184307Z
LAST-MODIFIED:20220105T235633Z
UID:8313-1642795200-1642807800@leuvencentraal.be
SUMMARY:Geen schaken
DESCRIPTION:
URL:https://leuvencentraal.be/event/geen_schaken/
LOCATION:De Wingerd\, Wingerdstraat 14\, Leuven\, 3000\, Belgium
CATEGORIES:Open Tornooi
END:VEVENT
BEGIN:VEVENT
DTSTART;TZID=Europe/Paris:20220128T200000
DTEND;TZID=Europe/Paris:20220128T233000
DTSTAMP:20260423T104535
CREATED:20220106T000000Z
LAST-MODIFIED:20220106T000000Z
UID:8362-1643400000-1643412600@leuvencentraal.be
SUMMARY:Geen schaken
DESCRIPTION:
URL:https://leuvencentraal.be/event/geen-schaken-3/
LOCATION:De Wingerd\, Wingerdstraat 14\, Leuven\, 3000\, Belgium
CATEGORIES:Open Tornooi
END:VEVENT
END:VCALENDAR