BEGIN:VCALENDAR
VERSION:2.0
PRODID:-//SCHAAKCLUB LEUVEN CENTRAAL VZW - ECPv6.8.3//NONSGML v1.0//EN
CALSCALE:GREGORIAN
METHOD:PUBLISH
X-WR-CALNAME:SCHAAKCLUB LEUVEN CENTRAAL VZW
X-ORIGINAL-URL:https://leuvencentraal.be
X-WR-CALDESC:Events voor SCHAAKCLUB LEUVEN CENTRAAL VZW
REFRESH-INTERVAL;VALUE=DURATION:PT1H
X-Robots-Tag:noindex
X-PUBLISHED-TTL:PT1H
BEGIN:VTIMEZONE
TZID:Europe/Paris
BEGIN:DAYLIGHT
TZOFFSETFROM:+0100
TZOFFSETTO:+0200
TZNAME:CEST
DTSTART:20210328T010000
END:DAYLIGHT
BEGIN:STANDARD
TZOFFSETFROM:+0200
TZOFFSETTO:+0100
TZNAME:CET
DTSTART:20211031T010000
END:STANDARD
END:VTIMEZONE
BEGIN:VEVENT
DTSTART;TZID=Europe/Paris:20211001T200000
DTEND;TZID=Europe/Paris:20211001T233000
DTSTAMP:20260423T233117
CREATED:20210827T105218Z
LAST-MODIFIED:20210919T211819Z
UID:7506-1633118400-1633131000@leuvencentraal.be
SUMMARY:Open R3
DESCRIPTION:
URL:https://leuvencentraal.be/event/open-r4/
LOCATION:De Wingerd\, Wingerdstraat 14\, Leuven\, 3000\, Belgium
CATEGORIES:Open Tornooi
END:VEVENT
BEGIN:VEVENT
DTSTART;TZID=Europe/Paris:20211008T200000
DTEND;TZID=Europe/Paris:20211008T233000
DTSTAMP:20260423T233117
CREATED:20210827T105301Z
LAST-MODIFIED:20210919T211839Z
UID:7509-1633723200-1633735800@leuvencentraal.be
SUMMARY:Open R4
DESCRIPTION:
URL:https://leuvencentraal.be/event/open-r5/
LOCATION:De Wingerd\, Wingerdstraat 14\, Leuven\, 3000\, Belgium
CATEGORIES:Open Tornooi
END:VEVENT
BEGIN:VEVENT
DTSTART;TZID=Europe/Paris:20211015T200000
DTEND;TZID=Europe/Paris:20211015T233000
DTSTAMP:20260423T233117
CREATED:20210827T105331Z
LAST-MODIFIED:20210919T211855Z
UID:7512-1634328000-1634340600@leuvencentraal.be
SUMMARY:Open R5
DESCRIPTION:
URL:https://leuvencentraal.be/event/open-r6/
LOCATION:De Wingerd\, Wingerdstraat 14\, Leuven\, 3000\, Belgium
CATEGORIES:Open Tornooi
END:VEVENT
BEGIN:VEVENT
DTSTART;TZID=Europe/Paris:20211022T200000
DTEND;TZID=Europe/Paris:20211022T233000
DTSTAMP:20260423T233117
CREATED:20210827T105405Z
LAST-MODIFIED:20210919T211912Z
UID:7515-1634932800-1634945400@leuvencentraal.be
SUMMARY:Open R6
DESCRIPTION:
URL:https://leuvencentraal.be/event/open-r7/
LOCATION:De Wingerd\, Wingerdstraat 14\, Leuven\, 3000\, Belgium
CATEGORIES:Open Tornooi
END:VEVENT
END:VCALENDAR