BEGIN:VCALENDAR
VERSION:2.0
PRODID:-//SCHAAKCLUB LEUVEN CENTRAAL VZW - ECPv6.8.3//NONSGML v1.0//EN
CALSCALE:GREGORIAN
METHOD:PUBLISH
X-WR-CALNAME:SCHAAKCLUB LEUVEN CENTRAAL VZW
X-ORIGINAL-URL:https://leuvencentraal.be
X-WR-CALDESC:Events voor SCHAAKCLUB LEUVEN CENTRAAL VZW
REFRESH-INTERVAL;VALUE=DURATION:PT1H
X-Robots-Tag:noindex
X-PUBLISHED-TTL:PT1H
BEGIN:VTIMEZONE
TZID:UTC
BEGIN:STANDARD
TZOFFSETFROM:+0000
TZOFFSETTO:+0000
TZNAME:UTC
DTSTART:20210101T000000
END:STANDARD
TZID:Europe/Paris
BEGIN:DAYLIGHT
TZOFFSETFROM:+0100
TZOFFSETTO:+0200
TZNAME:CEST
DTSTART:20220327T010000
END:DAYLIGHT
BEGIN:STANDARD
TZOFFSETFROM:+0200
TZOFFSETTO:+0100
TZNAME:CET
DTSTART:20221030T010000
END:STANDARD
END:VTIMEZONE
BEGIN:VEVENT
DTSTART;TZID=UTC:20210730T200000
DTEND;TZID=UTC:20210730T233000
DTSTAMP:20260425T151943
CREATED:20210607T112111Z
LAST-MODIFIED:20210729T141908Z
UID:6275-1627675200-1627687800@leuvencentraal.be
SUMMARY:Les voor volwassenen (1400+)
DESCRIPTION:Les voor beginners
URL:https://leuvencentraal.be/event/les_beginners/
CATEGORIES:Handicap
END:VEVENT
BEGIN:VEVENT
DTSTART;TZID=Europe/Paris:20220805T200000
DTEND;TZID=Europe/Paris:20220805T233000
DTSTAMP:20260425T151943
CREATED:20220614T093623Z
LAST-MODIFIED:20220619T082120Z
UID:8886-1659729600-1659742200@leuvencentraal.be
SUMMARY:Handicap tornooi
DESCRIPTION:more elo = less time
URL:https://leuvencentraal.be/event/handicap-tornooi/
LOCATION:De Wingerd\, Wingerdstraat 14\, Leuven\, 3000\, Belgium
CATEGORIES:Handicap
END:VEVENT
END:VCALENDAR